Workbook

Sheet AVANCES 
C1: EJECUCIÓN FINANCIERA DEL PLAN OPERATIVO ANUAL DE SEGURIDAD ALIMENTARIA Y NUTRICIONAL (POASAN) 2025 POR INSTITUCIÓN
C2: Periodo del 01 de enero al 31 de octubre de 2025
C3: Cantidad expresada en Quetzales
A4: INSTITUCIONES | C4: POASAN 2025
C5: ASIGNADO | D5: VIGENTE | E5: EJECUTADO | F5: % EJECUCIÓN
A6: MINISTERIOS | C6: =SUM(C7:C15) -> 14775493021 | D6: =SUM(D7:D15) -> 12827820867 | E6: =SUM(E7:E15) -> 8.8315199e+09 | F6: =E6/D6 -> 0.68846611
A7: 1 | B7: MINEDUC | C7: =MINEDUC!E18 -> 3631201903 | D7: =MINEDUC!F18 -> 3579614524 | E7: =MINEDUC!G18 -> 3.198413e+09 | F7: =E7/D7 -> 0.89350767
A8: 2 | B8: MSPAS | C8: =MSPAS!E30 -> 2269507555 | D8: =MSPAS!F30 -> 2330803154 | E8: =MSPAS!G30 -> 1.5065004e+09 | F8: =E8/D8 -> 0.64634388
A9: 3 | B9: MINTRAB | C9: =MINTRAB!E16 -> 2121101187 | D9: =MINTRAB!F16 -> 1626213091 | E9: =MINTRAB!G16 -> 1.2756191e+09 | F9: =E9/D9 -> 0.7844108
A10: 4 | B10: MINECO | C10: =MINECO!E13 -> 347230000 | D10: =MINECO!F13 -> 37382062 | E10: =MINECO!G13 -> 18326753 | F10: =E10/D10 -> 0.49025528
A11: 5 | B11: MAGA | C11: =MAGA!E29 -> 1806985904 | D11: =MAGA!F29 -> 1224902919 | E11: =MAGA!G29 -> 6.1549402e+08 | F11: =E11/D11 -> 0.50248392
A12: 6 | B12: CIV | C12: =CIV!E21 -> 3059488280 | D12: =CIV!F21 -> 2507734585 | E12: =CIV!G21 -> 1.2178545e+09 | F12: =E12/D12 -> 0.48563931
A13: 7 | B13: MCD | C13: =MCD!E16 -> 173215682 | D13: =MCD!F16 -> 181847255 | E13: =MCD!G16 -> 49942953 | F13: =E13/D13 -> 0.27464233
A14: 8 | B14: MARN | C14: =MARN!E12 -> 25898435 | D14: =MARN!F12 -> 23196272 | E14: =MARN!G12 -> 15571202 | F14: =E14/D14 -> 0.67128037
A15: 9 | B15: MIDES | C15: ='MIDES '!E23 -> 1340864075 | D15: ='MIDES '!F23 -> 1316127005 | E15: ='MIDES '!G23 -> 9.3379797e+08 | F15: =E15/D15 -> 0.70950445
A16: SECRETARÍAS | C16: =SUM(C17:C20) -> 370782122 | D16: =SUM(D17:D20) -> 366407129 | E16: =SUM(E17:E20) -> 2.5890079e+08 | F16: =E16/D16 -> 0.70659321
A17: 10 | B17: SCEP | C17: =SCEP!E13 -> 4330310 | D17: =SCEP!F13 -> 4175300 | E17: =SCEP!G13 -> 3412977 | F17: =E17/D17 -> 0.81742079
A18: 11 | B18: SBS | C18: =SBS!E16 -> 117912731 | D18: =SBS!F16 -> 107436777 | E18: =SBS!G16 -> 69208890 | F18: =E18/D18 -> 0.64418249
A19: 12 | B19: SOSEP | C19: =SOSEP!E13 -> 183481081 | D19: =SOSEP!F13 -> 188058142 | E19: =SOSEP!G13 -> 1.3654702e+08 | F19: =E19/D19 -> 0.72608936
A20: 13 | B20: SESAN | C20: =SESAN!E15 -> 65058000 | D20: =SESAN!F15 -> 66736910 | E20: =SESAN!G15 -> 49731906 | F20: =E20/D20 -> 0.74519342
A21: DESCENTRALIZADAS | C21: =SUM(C22:C26) -> 467383935 | D21: =SUM(D22:D26) -> 5.4282278e+08 | E21: =SUM(E22:E26) -> 2.7764045e+08 | F21: =E21/D21 -> 0.51147531
A22: 14 | B22: ICTA | C22: =ICTA!E15 -> 33000000 | D22: =ICTA!F15 -> 33000000 | E22: =ICTA!G15 -> 25562017 | F22: =E22/D22 -> 0.77460659
A23: 15 | B23: INFOM | C23: =INFOM!E14 -> 74627033 | D23: =INFOM!F14 -> 73729406 | E23: =INFOM!G14 -> 28562530 | F23: =E23/D23 -> 0.38739672
A24: 16 | B24: FONTIERRAS | C24: ='FONTIERRAS '!E13 -> 79789770 | D24: ='FONTIERRAS '!F13 -> 80295688 | E24: ='FONTIERRAS '!G13 -> 32748357 | F24: =E24/D24 -> 0.40784702
A25: 17 | B25: CONALFA | C25: =CONALFA!E12 -> 260467132 | D25: =CONALFA!F12 -> 336297689 | E25: =CONALFA!G12 -> 1.7943345e+08 | F25: =E25/D25 -> 0.53355541
A26: 18 | B26: INDECA | C26: =INDECA!E12 -> 19500000 | D26: =INDECA!F12 -> 19500000 | E26: =INDECA!G12 -> 11334093 | F26: =E26/D26 -> 0.58123555
A27: TOTAL | C27: =+C6+C16+C21 -> 15613659078 | D27: =+D6+D16+D21 -> 1.3737051e+10 | E27: =+E6+E16+E21 -> 9.3680611e+09 | F27: =+E27/D27 -> 0.68195578
A28: Fuente: SICOIN/SICOIN DESC. Reporte R815829.rpt

Sheet MINEDUC
A2: EJECUCIÓN FINANCIERA DEL POASAN 2025
A3: Periodo del 01 de enero al 31 de octubre de 2025
A6: ENTIDAD: MINISTERIO DE EDUCACIÓN (MINEDUC)
A8: CÓDIGO PRESUPUESTARIO | B8: PROGRAMA | C8: SUBPROGRAMA | D8: ACTIVIDAD PRESUPUESTARIA | E8: PRESUPUESTO | G8: EJECUCIÓN FINANCIERA
E9: INICIAL | F9: VIGENTE | G9: EJECUCIÓN ACUMULADA | H9: % DE EJECUCIÓN
A10: 11130008-000-11-01-000-009-000 | B10: EDUCACIÓN ESCOLAR DE PREPRIMARIA | C10: PREPRIMARIA MONOLINGÜE | D10: FORMACIÓN PADRES Y MADRES DE ESTUDIANTES DEL NIVEL PREPRIMARIO | E10: 1896550 | F10: 1896550 | G10: 1433018.1 | H10: =G10/F10 -> 0.75559207
A11: 11130008-000-12-01-000-010-000 | B11: EDUCACIÓN ESCOLAR DE PRIMARIA | C11: PRIMARIA MONOLINGÜE | D11: FORMACIÓN PADRES Y MADRES DE ESTUDIANTES DEL NIVEL PRIMARIO | E11: 2726550 | F11: 2726550 | G11: 1905201.8 | H11: =G11/F11 -> 0.69875916
A12: 11130008-000-18-00-000-001-000 | B12: EDUCACIÓN INICIAL | C12: SIN SUBPROGRAMA | D12: SERVICIOS DE EDUCACIÓN INICIAL | E12: 53560255 | F12: 51249652 | G12: 15877096 | H12: =G12/F12 -> 0.30979909
A13: 11130008-000-20-00-000-001-000 | B13: APOYO PARA EL CONSUMO ADECUADO DE ALIMENTOS | C13: SIN SUBPROGRAMA | D13: SERVICIOS DE SEGURIDAD ALIMENTARIA Y NUTRICIONAL ESCOLAR | E13: 133685548 | F13: 198157090 | G13: 10708853 | H13: =G13/F13 -> 0.054042238
A14: 11130008-000-20-00-000-002-000 | D14: SERVICIOS DE ALIMENTACIÓN ESCOLAR PREPRIMARIA | E14: 644977080 | F14: 604437846 | G14: 5.6505916e+08 | H14: =G14/F14 -> 0.93485073
A15: 11130008-000-20-00-000-003-000 | D15: SERVICIOS DE ALIMENTACIÓN ESCOLAR PRIMARIA | E15: 2427416560 | F15: 2339144371 | G15: 2.2413382e+09 | H15: =G15/F15 -> 0.95818721
A16: 11130008-000-20-00-000-004-000 | D16: SERVICIOS DE ALIMENTACIÓN ESCOLAR PARA EL NIVEL MEDIO | E16: 322470000 | F16: 328333499 | G16: 3.119545e+08 | H16: =G16/F16 -> 0.95011474
A17: 11130008-000-20-00-000-005-000 | D17: SERVICIOS DE ALIMENTACIÓN ESCOLAR PARA EDUCACIÓN INICIAL | E17: 44469360 | F17: 53668966 | G17: 50136970 | H17: =G17/F17 -> 0.93418923
A18: TOTAL | E18: =SUM(E10:E17) -> 3631201903 | F18: =SUM(F10:F17) -> 3579614524 | G18: =SUM(G10:G17) -> 3.198413e+09 | H18: =G18/F18 -> 0.89350767
A19: Fuente: R00815829.rpt

Sheet MSPAS
A2: EJECUCIÓN FINANCIERA DEL POASAN 2025
A3: Periodo del 01 de enero al 31 de octubre de 2025
A6: ENTIDAD: MINISTERIO DE SALUD PÚBLICA Y ASISTENCIA SOCIAL (MSPAS)
A8: CÓDIGO PRESUPUESTARIO | B8: PROGRAMA | C8: SUBPROGRAMA | D8: ACTIVIDAD PRESUPUESTARIA | E8: PRESUPUESTO | G8: EJECUCIÓN FINANCIERA
E9: INICIAL | F9: VIGENTE | G9: EJECUCIÓN ACUMULADA | H9: % DE EJECUCIÓN
A10: 11130009-000-12-00-000-002-000 | B10: FOMENTO DE LA SALUD Y MEDICINA PREVENTIVA | C10: SIN SUBPROGRAMA | D10: PREVENCIÓN Y PROMOCIÓN DE LA SALUD | E10: 338993160 | F10: 329870694 | G10: 2.5830041e+08 | H10: =G10/F10 -> 0.78303535
A11: 11130009-000-14-00-000-003-000 | B11: PREVENCIÓN DE LA MORTALIDAD DE LA NIÑEZ Y DE LA DESNUTRICIÓN CRÓNICA | C11: SIN SUBPROGRAMA | D11: SERVICIOS DE CONSEJERÍA | E11: 30780983 | F11: 40167698 | G11: 26619247 | H11: =G11/F11 -> 0.66270283
A12: 11130009-000-14-00-000-004-000 | D12: MONITOREO DE CRECIMIENTO | E12: 50425793 | F12: 63233494 | G12: 41297056 | H12: =G12/F12 -> 0.65308831
A13: 11130009-000-14-00-000-005-000 | D13: DOTACIÓN DE MICRONUTRIENTES A NIÑO Y NIÑA MENOR DE 5 AÑOS | E13: 209646509 | F13: 213764680 | G13: 95934308 | H13: =G13/F13 -> 0.44878465
A14: 11130009-000-14-00-000-007-000 | D14: SERVICIOS DE DESPARASITACIÓN A NIÑO Y NIÑA DE 1 A MENOR DE 5 AÑOS | E14: 6179134 | F14: 8129584 | G14: 5302665.2 | H14: =G14/F14 -> 0.65226772
A15: 11130009-000-14-00-000-008-000 | D15: VIGILANCIA DEL AGUA | E15: 26414857 | F15: 26606217 | G15: 18428081 | H15: =G15/F15 -> 0.6926231
A16: 11130009-000-14-00-000-009-000 | D16: ATENCIÓN POR INFECCIÓN RESPIRATORIA AGUDA A NIÑO Y NIÑA MENOR DE 5 AÑOS | E16: 56500740 | F16: 144206310 | G16: 85914005 | H16: =G16/F16 -> 0.59577147
A17: 11130009-000-14-00-000-010-000 | D17: ATENCIÓN POR ENFERMEDAD DIARREICA AGUDA A NIÑO Y NIÑA MENOR DE 5 AÑOS | E17: 25211013 | F17: 44485697 | G17: 26697306 | H17: =G17/F17 -> 0.60013236
A18: 11130009-000-14-00-000-012-000 | D18: DIAGNÓSTICO Y TRATAMIENTO DE LA DESNUTRICIÓN AGUDA | E18: 43410403 | F18: 54435270 | G18: 38292787 | H18: =G18/F18 -> 0.70345545
A19: 11130009-000-14-00-000-015-000 | D19: SERVICIOS DE VIGILANCIA DE DESARROLLO INFANTIL | E19: 1752572 | F19: 2946623 | G19: 1966096.6 | H19: =G19/F19 -> 0.66723725
A20: 11130009-000-14-00-000-017-000 | D20: SERVICIOS DE VACUNACIÓN A NIÑO Y NIÑA MENOR DE 5 AÑOS | E20: 660398087 | F20: 515116267 | G20: 2.9069449e+08 | H20: =G20/F20 -> 0.56432791
A21: 11130009-000-15-00-000-001-000 | B21: PREVENCIÓN DE LA MORTALIDAD MATERNA Y NEONATAL | C21: SIN SUBPROGRAMA | D21: SERVICIOS DE ATENCIÓN PRENATAL OPORTUNA | E21: 141243866 | F21: 148841753 | G21: 1.092928e+08 | H21: =G21/F21 -> 0.73428858
A22: 11130009-000-15-00-000-002-000 | D22: SERVICIOS DE ATENCIÓN DEL PARTO LIMPIO Y SEGURO | E22: 158216934 | F22: 233132238 | G22: 1.6056094e+08 | H22: =G22/F22 -> 0.68871186
A23: 11130009-000-15-00-000-003-000 | D23: SERVICIOS DE ATENCIÓN DEL RECIÉN NACIDO | E23: 137876042 | F23: 130151461 | G23: 86519247 | H23: =G23/F23 -> 0.66475817
A24: 11130009-000-15-00-000-004-000 | D24: SERVICIOS DE PLANIFICACIÓN FAMILIAR | E24: 88615193 | F24: 67939962 | G24: 44764273 | H24: =G24/F24 -> 0.65887986
A25: 11130009-000-15-00-000-006-000 | D25: SERVICIOS DE APOYO | E25: 37210490 | F25: 33406047 | G25: 9726519.1 | H25: =G25/F25 -> 0.29116043
A26: 11130009-000-15-00-000-007-000 | D26: SERVICIOS DE SALUD REPRODUCTIVA PARA ADOLESCENTES | E26: 5004911 | F26: 8316082 | G26: 4259087.2 | H26: =G26/F26 -> 0.51215069
A27: 11130009-000-15-00-000-008-000 | D27: DOTACIÓN DE MICRONUTRIENTES A MUJER EN EDAD FÉRTIL | E27: 26628590 | F27: 19887833 | G27: 15383862 | H27: =G27/F27 -> 0.77353136
A28: 11130009-000-18-00-000-001-000 | B28: PREVENCIÓN Y CONTROL DE LAS ENFERMEDADES VECTORIALES Y ZOONÓTICAS | C28: SIN SUBPROGRAMA | D28: SERVICIOS DE PREVENCIÓN, CONTROL Y VIGILANCIA DE LA MALARIA | E28: 39916970 | F28: 51205998 | G28: 24887460 | H28: =G28/F28 -> 0.48602626
A29: 11130009-000-18-00-000-002-000 | D29: SERVICIOS DE PREVENCIÓN CONTROL Y VIGILANCIA DEL DENGUE CHIKUNGUNYA Y ZIKA | E29: 185081308 | F29: 194959246 | G29: 1.6165972e+08 | H29: =G29/F29 -> 0.82919749
A30: TOTAL | E30: =SUM(E10:E29) -> 2269507555 | F30: =SUM(F10:F29) -> 2330803154 | G30: =SUM(G10:G29) -> 1.5065004e+09 | H30: =+G30/F30 -> 0.64634388
A31: Fuente: SICOIN R00815829.rpt

Sheet MINTRAB
A2: EJECUCIÓN FINANCIERA DEL POASAN 2025
A3: Periodo del 01 de enero al 31 de octubre de 2025
A6: ENTIDAD: MINISTERIO DE TRABAJO Y PREVISIÓN SOCIAL (MINTRAB)
A8: CÓDIGO PRESUPUESTARIO | B8: PROGRAMA | C8: SUBPROGRAMA | D8: ACTIVIDAD PRESUPUESTARIA | E8: PRESUPUESTO | G8: EJECUCIÓN FINANCIERA
E9: INICIAL | F9: VIGENTE | G9: EJECUCIÓN ACUMULADA | H9: % DE EJECUCIÓN
A10: 11130010-000-11-00-000-003-000 | B10: GESTIÓN DE ASUNTOS LABORALES | C10: SIN SUBPROGRAMA | D10: SERVICIOS DE INFORMACIÓN, ORIENTACIÓN Y COLOCACIÓN DE TRABAJADORES GUATEMALTECOS EN EL EXTERIOR | E10: 8039200 | F10: 9289357 | G10: 4416025.5 | H10: =G10/F10 -> 0.47538549
A11: 11130010-000-16-00-000-002-000 | B11: ATENCIÓN AL ADULTO MAYOR | C11: SIN SUBPROGRAMA | D11: APORTE ECONÓMICO AL ADULTO MAYOR | E11: 2035438613 | F11: 1535438613 | G11: 1217379132 | H11: =G11/F11 -> 0.79285432
A12: 11130010-000-17-00-000-001-000 | B12: PROMOCIÓN DE LA FORMALIDAD DEL EMPLEO | C12: SIN SUBPROGRAMA | D12: SERVICIOS DE FORMACIÓN EN COMPETENCIAS TÉCNICAS PARA EL EMPLEO | E12: 7406226 | F12: 10900868 | G12: 5019049.6 | H12: =G12/F12 -> 0.4604266
A13: 11130010-000-17-00-000-002-000 | D13: SERVICIOS DE COLOCACIÓN E INTERMEDIACIÓN LABORAL | E13: 15045574 | F13: 13095379 | G13: 8440969.4 | H13: =G13/F13 -> 0.64457618
A14: 11130010-000-17-00-000-004-000 | D14: SERVICIOS DE INSPECCIÓN LABORAL | E14: 46788124 | F14: 49210924 | G14: 35061226 | H14: =G14/F14 -> 0.71246835
A15: 11130010-000-17-00-000-005-000 | D15: SERVICIOS DE BECAS DE EMPLEO EN ACTIVIDADES ECONÓMICAS DIVERSAS | E15: 8383450 | F15: 8277950 | G15: 5302710.2 | H15: =G15/F15 -> 0.64058254
A16: TOTAL | E16: =SUM(E10:E15) -> 2121101187 | F16: =SUM(F10:F15) -> 1626213091 | G16: =SUM(G10:G15) -> 1.2756191e+09 | H16: =+G16/F16 -> 0.7844108
A17: Fuente: R00815829.rpt

Sheet MINECO
A3: EJECUCIÓN FINANCIERA DEL POASAN 2025
A4: Periodo del 01 de enero al 31 de octubre de 2025
A6: ENTIDAD: MINISTERIO DE ECONOMÍA (MINECO)
A8: CÓDIGO PRESUPUESTARIO | B8: PROGRAMA | C8: SUBPROGRAMA | D8: ACTIVIDAD PRESUPUESTARIA | E8: PRESUPUESTO | G8: EJECUCIÓN FINANCIERA
E9: INICIAL | F9: VIGENTE | G9: EJECUCIÓN ACUMULADA | H9: % DE EJECUCIÓN
A10: 11130011-105-14-00-000-002-000 | B10: DESARROLLO DE LA MICRO, PEQUEÑA Y MEDIANA EMPRESA | C10: SIN SUBPROGRAMA | D10: SERVICIOS DE APOYO TÉCNICO A MUJERES MICROEMPRESARIAS PARA EMPODERAMIENTO ECONÓMICO | E10: 1500000 | F10: 1457288 | G10: 246372.39 | H10: =G10/F10 -> 0.16906225
A11: 11130011-105-14-00-000-003-000 | D11: SERVICIOS DE APOYO EN LA PRODUCCIÓN Y COMERCIALIZACIÓN ARTESANAL | E11: 2000000 | F11: 1966233 | G11: 511320.77 | H11: =G11/F11 -> 0.26005096
A12: 11130011-105-14-00-000-004-000 | D12: SERVICIOS DE ASISTENCIA TÉCNICA EN DESARROLLO EMPRESARIAL A LA MICRO, PEQUEÑA Y MEDIANA EMPRESA | E12: 343730000 | F12: 33958541 | G12: 17569060 | H12: =G12/F12 -> 0.51736793
A13: TOTAL | E13: =SUM(E10:E12) -> 347230000 | F13: =SUM(F10:F12) -> 37382062 | G13: =SUM(G10:G12) -> 18326753 | H13: =G13/F13 -> 0.49025528
A14: Fuente: R00815829.rpt

Sheet MAGA
A2: EJECUCIÓN FINANCIERA DEL POASAN 2025
A3: Periodo del 01 de enero al 31 de octubre de 2025
A6: ENTIDAD: MINISTERIO DE AGRICULTURA, GANADERÍA Y ALIMENTACIÓN (MAGA)
A8: CÓDIGO PRESUPUESTARIO | B8: PROGRAMA | C8: SUBPROGRAMA | D8: ACTIVIDAD PRESUPUESTARIA/OBRA | E8: PRESUPUESTO | G8: EJECUCIÓN FINANCIERA
E9: INICIAL | F9: VIGENTE | G9: EJECUCIÓN ACUMULADA | H9: % DE EJECUCIÓN
A10: 11130012-000-11-01-000-001-000 | B10: ACCESO Y DISPONIBILIDAD ALIMENTARIA | C10: ATENCIÓN PARA EL ACCESO ALIMENTARIO | D10: DIRECCIÓN Y COORDINACIÓN | E10: 49963397 | F10: 31545583 | G10: 14739445 | H10: =G10/F10 -> 0.46724277
A11: 11130012-000-11-01-000-002-000 | D11: ASISTENCIA Y DOTACIÓN DE ALIMENTOS | E11: 234777859 | F11: 271605266 | G11: 1.580623e+08 | H11: =G11/F11 -> 0.58195593
A12: 11130012-000-11-02-000-001-000 | C12: DISPONIBILIDAD ALIMENTARIA | D12: DIRECCIÓN Y COORDINACIÓN | E12: 79820246 | F12: 65338390 | G12: 42869722 | H12: =G12/F12 -> 0.65611844
A13: 11130012-000-11-02-000-002-000 | D13: PROMOCIÓN DE LA AGRICULTURA SENSIBLE A LA NUTRICIÓN Y FOMENTO DE HUERTOS | E13: 531228289 | F13: 169608202 | G13: 1.1283214e+08 | H13: =G13/F13 -> 0.66525167
A14: 11130012-000-11-02-000-003-000 | D14: AGRICULTURA FAMILIAR PARA EL FORTALECIMIENTO DE LA ECONOMÍA CAMPESINA | E14: 304270460 | F14: 172201024 | G14: 86079098 | H14: =G14/F14 -> 0.49987565
A15: 11130012-000-12-00-000-005-000 | B15: INVESTIGACIÓN, RESTAURACIÓN Y CONSERVACIÓN DE SUELOS | C15: SIN SUBPROGRAMA | D15: SERVICIOS PARA EL MEJORAMIENTO DE LA PRODUCCIÓN AGROPECUARIA | E15: 48633663 | F15: 20766932 | G15: 7716644.8 | H15: =G15/F15 -> 0.37158328
A16: 11130012-000-13-01-000-001-000 | B16: APOYO A LA PRODUCCIÓN AGRÍCOLA, PECUARIA E HIDROBIOLÓGICA | C16: APOYO A LA PRODUCCIÓN AGRÍCOLA | D16: DIRECCIÓN Y COORDINACIÓN | E16: 41409560 | F16: 44482889 | G16: 20467930 | H16: =G16/F16 -> 0.4601304
A17: 11130012-000-13-01-000-002-000 | D17: SERVICIOS PARA LA PRODUCCIÓN AGRÍCOLA SOSTENIBLE Y TECNIFICADA | E17: 114437122 | F17: 157630099 | G17: 43876784 | H17: =G17/F17 -> 0.27835283
A18: 11130012-000-13-01-000-003-000 | D18: SERVICIOS DE SEGURO AGROPECUARIO | E18: 65114000 | F18: 45114000 | G18: 45070955 | H18: =G18/F18 -> 0.99904587
A19: 11130012-000-13-01-000-004-000 | D19: SERVICIOS DE FORMACIÓN Y CAPACITACIÓN AGRÍCOLA Y FORESTAL | E19: 106775000 | F19: 97531561 | G19: 32760984 | H19: =G19/F19 -> 0.33590136
A20: 11130012-000-13-01-000-005-000 | D20: REACTIVACIÓN Y MODERNIZACIÓN DE LA ACTIVIDAD AGROPECUARIA (FONAGRO) | E20: 36265000 | F20: 36265000 | G20: 8906210.5 | H20: =G20/F20 -> 0.24558694
A21: 11130012-000-13-01-000-006-000 | D21: APOYO FINANCIERO PARA PRODUCTORES DEL SECTOR CAFETALERO | E21: 20000000 | F21: 20000000 | G21: 13321872 | H21: =G21/F21 -> 0.66609361
A22: 11130012-000-13-02-000-001-000 | C22: APOYO PARA LA PRODUCCIÓN PECUARIA E HIDROBIOLÓGICA | D22: DIRECCIÓN Y COORDINACIÓN | E22: 2038099 | F22: 3227019 | G22: 1644032.3 | H22: =G22/F22 -> 0.50945851
A23: 11130012-000-13-02-000-003-000 | D23: APOYO A LA PRODUCCIÓN PECUARIA E HIDROBIOLÓGICA SOSTENIBLE Y TECNIFICADA | E23: 5063487 | F23: 5643635 | G23: 4011995.9 | H23: =G23/F23 -> 0.71088862
A24: 11130012-000-13-02-000-004-000 | D24: DIVERSIFICACIÓN PECUARIA E HIDROBIOLÓGICA PARA CRIANZA DE ESPECIES | E24: 1016500 | F24: 876515 | G24: 468832.9 | H24: =G24/F24 -> 0.53488292
A25: 11130012-000-13-03-000-001-000 | B25: APOYO A LA PRODUCCIÓN AGRÍCOLA, PECUARIA E HIDROBIOLÓGICA | C25: ORGANIZACIÓN, MERCADEO Y COMERCIALIZACIÓN PRODUCTIVA | D25: DIRECCIÓN Y COORDINACIÓN | E25: 5605600 | F25: 9687379 | G25: 3732486 | H25: =G25/F25 -> 0.38529369
A26: 11130012-000-13-03-000-002-000 | D26: ASISTENCIA PARA LA ORGANIZACIÓN Y COMERCIALIZACIÓN PRODUCTIVA | E26: 11737038 | F26: 10781940 | G26: 8045750.1 | H26: =G26/F26 -> 0.74622471
A27: 11130012-000-13-03-000-003-000 | D27: FORTALECIMIENTO DE LA ADMINISTRACIÓN DEL AGUA PARA LA PRODUCCIÓN SOSTENIBLE | E27: 38366000 | F27: 53484794 | G27: 4144525.9 | H27: =G27/F27 -> 0.077489797
A28: 11130012-000-13-03-001-000-001 | D28: CONSTRUCCIÓN, AMPLIACIÓN, MEJORAMIENTO Y REPOSICIÓN DE INFRAESTRUCTURA DE RIEGO | E28: 110464584 | F28: 9112691 | G28: 6742319.6 | H28: =G28/F28 -> 0.73988239
A29: TOTAL | E29: =SUM(E10:E28) -> 1806985904 | F29: =SUM(F10:F28) -> 1224902919 | G29: =SUM(G10:G28) -> 6.1549402e+08 | H29: =G29/F29 -> 0.50248392
A30: Fuente: R00815829.rpt

Sheet CIV
A2: EJECUCIÓN FINANCIERA DEL POASAN 2025
A3: Periodo del 01 de enero al 31 de octubre de 2025
A6: ENTIDAD: MINISTERIO DE COMUNICACIONES, INFRAESTRUCTURA Y VIVIENDA (CIV)
A8: CÓDIGO PRESUPUESTARIO | B8: PROGRAMA | C8: SUBPROGRAMA | D8: ACTIVIDAD PRESUPUESTARIA/OBRA | E8: PRESUPUESTO | G8: EJECUCIÓN FINANCIERA
E9: INICIAL | F9: VIGENTE | G9: EJECUCIÓN ACUMULADA | H9: % DE EJECUCIÓN
A10: 11130013-202-11-01-001-000-003 | B10: DESARROLLO DE LA INFRAESTRUCTURA VIAL | C10: DESARROLLO DE LA INFRAESTRUCTURA VIAL PRIMARIA Y SECUNDARIA | D10: MEJORAMIENTO DE CARRETERAS PRIMARIAS, PUENTES Y DISTRIBUIDORES DE TRÁNSITO | E10: 261840000 | F10: 303731290 | G10: 2.1425925e+08 | H10: =G10/F10 -> 0.70542369
A11: 11130013-202-11-01-002-000-001 | D11: CONSTRUCCIÓN DE CARRETERAS SECUNDARIAS Y PUENTES | E11: 244593400 | F11: 306802746 | G11: 2.0131175e+08 | H11: =G11/F11 -> 0.65616019
A12: 11130013-000-11-01-002-000-003 | D12: MEJORAMIENTO DE CARRETERAS SECUNDARIAS Y PUENTES | E12: 1206222880 | F12: 804817619 | G12: 4.0988081e+08 | H12: =G12/F12 -> 0.50928409
A13: 11130013-000-11-02-001-000-001 | C13: DESARROLLO DE LA INFRAESTRUCTURA VIAL TERCIARIA | D13: MEJORAMIENTO DE CAMINOS RURALES | E13: 279049000 | F13: 289080727 | G13: 1.2782999e+08 | H13: =G13/F13 -> 0.44219478
A14: 11130013-206-14-00-001-000-001 | B14: CONSTRUCCIÓN PÚBLICA | C14: SIN SUBPROGRAMA | D14: CONSTRUCCIÓN, AMPLIACIÓN, REPOSICIÓN Y MEJORAMIENTO DE ESCUELAS DE PREPRIMARIA | E14: 85849498 | F14: 2736095 | G14: 2736094.5 | H14: =G14/F14 -> 0.99999982
A15: 11130013-206-14-00-001-000-002 | D15: CONSTRUCCIÓN, AMPLIACIÓN, REPOSICIÓN Y MEJORAMIENTO DE ESCUELAS DE PRIMARIA | E15: 149932320 | F15: 7719811 | G15: 1310799.4 | H15: =G15/F15 -> 0.16979682
A16: 11130013-206-14-00-001-000-003 | D16: CONSTRUCCIÓN, AMPLIACIÓN, REPOSICIÓN Y MEJORAMIENTO DE ESTABLECIMIENTOS DE EDUCACIÓN BÁSICA | E16: 84218182 | F16: 3216001 | G16: 0 | H16: =G16/F16 -> 0
A17: 11130013-206-14-00-001-000-004 | D17: CONSTRUCCIÓN, AMPLIACIÓN, REPOSICIÓN Y MEJORAMIENTO DE ESTABLECIMIENTOS DE EDUCACIÓN DIVERSIFICADA | E17: 0 | F17: 4668528 | G17: 2417227 | H17: =G17/F17 -> 0.5177707
A18: 11130013-206-14-00-001-000-005 | D18: CONSTRUCCIÓN, AMPLIACIÓN Y REPOSICIÓN DE ESTABLECIMIENTOS DE ESCUELAS INTEGRALES | E18: 0 | F18: 50828856 | G18: 32386838 | H18: =G18/F18 -> 0.63717424
A19: 11130013-206-14-00-001-000-006 | D19: CONSTRUCCIÓN, AMPLIACIÓN Y REPOSICIÓN DE ESCUELAS BICENTENARIO | E19: 0 | F19: 76750412 | G19: 46135334 | H19: =G19/F19 -> 0.60110862
A20: 11130013-218-19-00-000-002-000 | B20: DESARROLLO DE LA VIVIENDA | C20: SIN SUBPROGRAMA | D20: SUBSIDIO PARA LA VIVIENDA | E20: 747783000 | F20: 657382500 | G20: 1.7958641e+08 | H20: =G20/F20 -> 0.27318405
A21: TOTAL | E21: =SUM(E10:E20) -> 3059488280 | F21: =SUM(F10:F20) -> 2507734585 | G21: =SUM(G10:G20) -> 1.2178545e+09 | H21: =+G21/F21 -> 0.48563931
A22: Fuente: R00815829.rpt

Sheet MICIVI
B5: CODIGO PRESUPUESTARIO | C5: CODIGO PRESUPUESTARIIO | D5: ACTIVIDAD PRESUPUESTARIA | E5: PRESUPUESTO | G5: AVANCE FINANCIERO | I5: CODIGO SNIP
E6: INICIAL | F6: VIGENTE | G6: EJECUCIÓN ACUMULADA | H6: % DE EJECUCION
B7: 11130013 202-111-01-0001-000-001-3000 | C7: CONSTRUCCIÓN DE CARRETERAS PRIMARIAS PUENTES Y DISTRIBUIDORES DE TRÁNSITO SNIP60132 | D7: Construcción carretera franja transversal del norte (frontera con México- Modesto Méndez, Izabal) | E7: 92216000 | F7: 90244380 | G7: 20899181 | H7: =G7/F7 -> 0.2315843 | I7: 60132
B8: 11130013 111-001-001-000-002-0899 | C8: REPOSICIÓN DE CARRETERAS PRIMARIAS, PUENTES Y DISTRIBUIDORES DE TRÁNSITO | D8: Reposicion carretera RN 1 tramo godinez san andres semetabaj panajachel solola | E8: 48600000 | F8: 36801647 | G8: 33701645 | H8: =G8/F8 -> 0.91576459 | I8: 208415
B9: 11130013 -111001-001-000-002-0599 | D9: Reposición carretera CA-09 SUR tramo palin -Escuintla, Escuintla | E9: 26000000 | F9: 64544415 | G9: 43039998 | H9: =G9/F9 -> 0.6668276 | I9: 209024
B10: 11130013 -11-001-001-000-002-2099 | D10: Reposición carretera ruta CA 10 tramo quezaltepeque frontera agua caliente chiquimula | E10: 54304761 | F10: 22739140 | G10: 21129834 | H10: =G10/F10 -> 0.92922751 | I10: 209051
B11: 11130013-11-001-001-000-002-0899 | D11: Reposicion carretera CA 01 OOCC tramo cuatro caminos KM 188600 pologua km 205 000 totonicapan | E11: 23191912 | F11: 3000000 | G11: 0 | H11: =G11/F11 -> 0 | I11: 209677
B12: 11130013 11-001-001-000-002-3600 | D12: Reposicion carretera CA 01 ACC tramo pologua km 205000 totonicapan chiquibal km 232 000 quetzaltenango | E12: 41347830 | F12: 5100000 | G12: 459062.26 | H12: =G12/F12 -> 0.090012208 | I12: 209678
B13: 11130013 11-001-001-000-002-3600 | D13: Reposición carretera RN 11 tramo bifurcacion CA 02 occidente cocales suchitepequez san lucas toliman solola | E13: 50319389 | F13: 20946675 | G13: 20889071 | H13: =G13/F13 -> 0.99724998 | I13: 209682
B14: 11130013 11-001-001-000-002-3600 | D14: Reposición carretera cito-180 tramo CA-2 OCC (Km 178+000) Retalhuleu - cruce a zunil (km 213+000) Quetzaltenango | E14: 23281973 | F14: 728638 | G14: 728484.87 | H14: =G14/F14 -> 0.99978984 | I14: 207590
B15: 11130013 11-001-001-000-002-2099 | D15: Reposición de carretera CA-12, tramo KM 212+200 frontera la ermita (Km 227+404) Chiquimula | E15: 3300636 | F15: 10930680 | G15: 9805023.3 | H15: =G15/F15 -> 0.89701861 | I15: 149860
B16: 11130013 11-001-001-000-002-1609 | D16: Reposición carretera CITO 180 tramo CA-2 Occ. (km.178+000) Retalhuleu Cruce zunil (km 213+000) Quetzaltenango (MICIVI) | E16: 0 | F16: 12643524 | G16: 8255621.7 | H16: =G16/F16 -> 0.65295258 | I16: 228252
B17: 11130013 11-001-001-000-002-1609 | D17: Reposición carretera CA-12 tramo km. 212+200 frontera la Ermita (km. 227+404) Chiquimula (MICIVI) | E17: 0 | F17: 12886032 | G17: 684757.25 | H17: =G17/F17 -> 0.053139496 | I17: 228343
B18: 11130013 11-001-001-000-003-1699 | C18: MEJORAMIENTO DE CARRETERAS PRIMARIAS, PUENTES Y DISTRIBUIDORES DE TRÁNSITO | D18: Mejoramiento carretera RN7E tramo I : San julian-Tamahu-Tucuru -puente chasco (pavimentacion) | E18: 147845465 | F18: 83478936 | G18: 82602281 | H18: =G18/F18 -> 0.98949848 | I18: 34968
B19: 11130013 11-001-001-000-003-1299 | D19: Mejoramiento carretera RN 12 Sur, tramo san marcos guativil El Querzal SINTANA | E19: 60000000 | F19: 76600000 | G19: 71396398 | H19: =G19/F19 -> 0.93206786 | I19: 116535
B20: 11130013 11-001-001-000-003-1699 | D20: Mejoramiento de carretera RN 05 tramo campur-fray bartolome de las casas (pavimentacion) | E20: 133231886 | F20: 10134533 | G20: 0 | H20: =G20/F20 -> 0 | I20: 15149
B21: 11130013 11-001-002-000-001-1499 | C21: CONSTRUCCIÓN DE CARRETERAS SECUNDARIAS Y PUENTES | D21: Construcción carretera RD QUI-21 tramo II seca-Lacentillo -SAQUIXPEC El PARAISO longitud 36.54 KM | E21: 36475246 | F21: 36475246 | G21: 7322821.7 | H21: =G21/F21 -> 0.20076141 | I21: 116527
B22: 11130013 11-001-002-000-001-1499 | D22: Construcción carretera RD QUI-21 tramo san juan chactela- ixcan longitud 45.6 km. | E22: 45347603 | F22: 45347603 | G22: 6697145.2 | H22: =G22/F22 -> 0.14768466 | I22: 132258
B23: 11130013 11-001-002-000-002-1601 | C23: REPOSICIÓN DE CARRETERAS SECUNDARIAS Y PUENTES | D23: Reposicion carretera RD Av. 9 tramo coban finca chitoc Alta Verapaz | E23: 22077494 | F23: 18741577 | G23: 16149118 | H23: =G23/F23 -> 0.86167339 | I23: 209016
B24: 11130013 11-001-002-000-002-0999 | D24: Mejoramiento carretera RN-7e tramo I : San Julian- tamahu- Tucuru- puente Chasco (pavimentación) (MICIVI) | E24: 0 | F24: 12316168 | G24: 0 | H24: =G24/F24 -> 0 | I24: 228035
B25: 11130013 11-001-002-000-002-1199 | D25: Ampliación Escuela primaria oficial rural mixta, aldea la union, Malacatan San Marcos UDI: 12-15-0684-43 (MICIVI) | E25: 0 | F25: 7441805 | G25: 224087.69 | H25: =G25/F25 -> 0.030112008 | I25: 228061
B26: 11130013 11-001-002-000-002-3600 | E26: 0 | F26: 19153043 | G26: 19106006 | H26: =G26/F26 -> 0.99754415 | I26: 228251
B27: 11130013 11-001-002-000-003-0805 | C27: MEJORAMIENTO DE CARRETERAS SECUNDARIAS Y PUENTES | E27: 12730500 | F27: 0 | G27: 0 | H27: =G27/F27 -> #DIV/0! | I27: 221962
B28: 11130013 11-001-002-000-003-0706 | E28: 40000000 | F28: 2778672 | G28: 1200000 | H28: =G28/F28 -> 0.43186098 | I28: 221965
B29: 11130013 11-01-002-000-003-0805 | D29: Mejoramiento carretera tramo rancho de teja momostenango (pavimentación) | E29: 23750000 | F29: 0 | G29: 0 | H29: =G29/F29 -> #DIV/0! | I29: 116530
B30: 11130013 11-01-002-000-003-1420 | D30: Mejoramiento carretera RD qui 25 tramo FTN (Aldea san Francisco) ingenieros (frontera) | E30: 1300000 | F30: 34248424 | G30: 0 | H30: =G30/F30 -> 0 | I30: 142767
B31: 11130013 11-01-002-000-003-1499 | D31: Mejoramiento carretera RD Qui 21 tramo III la libertad rio copon asencion copon san juan Chactela | E31: 31881336 | F31: 31881336 | G31: 1223010.2 | H31: =G31/F31 -> 0.038361323 | I31: 167405
B32: 11130013 11-01-002-000-003-1499 | D32: Mejoramiento carretera RD quiche 4 tramo santa cruz del quiche patzite chimente | E32: 46050000 | F32: 35744431 | G32: 30167081 | H32: =G32/F32 -> 0.84396591 | I32: 189499
B33: 11130013 11-01-002-000-003-1299 | E33: 0 | F33: 126770500 | G33: 76363701 | H33: =G33/F33 -> 0.60237754 | I33: 190108
B34: 11130013 11-01-002-000-003-0909 | E34: 0 | F34: 11510337 | G34: 4184226.1 | H34: =G34/F34 -> 0.36351899 | I34: 190122
B35: 11130013 11-01-002-000-003-0799 | D35: Mejoramiento carretera RD sol 04 tramo santiago atitaln km 171000 San pedro la laguna Km 174220 solola | E35: 16100000 | F35: 1200000 | G35: 981253.77 | H35: =G35/F35 -> 0.81771147 | I35: 221005
B36: 11130013 11-01-002-000-003-1699 | D36: Mejoramiento carretera RDAV 06, tramo lanquin - chabon (pavimentación ) | E36: 27524022 | F36: 27524022 | G36: 3474885 | H36: =G36/F36 -> 0.12624917 | I36: 72220
B37: 11130013 11-01-002-000-003-3000 | D37: Mejoramiento carretera RD CHM 17 tramo san martin jilotepeque joyabaj pavimentacion | E37: 193950000 | F37: 0 | G37: 0 | H37: =G37/F37 -> #DIV/0! | I37: 95927
B38: 11130013 11-01-002-000-003-1499 | D38: Mejoramiento carretera RD QUI-21 tramo I: chicaman -El Soch- SECA longitud 33.66 km. | E38: 33517793 | F38: 33517793 | G38: 7414263 | H38: =G38/F38 -> 0.22120379 | I38: 72219
B39: 11130013 11-002-001-000-001-3000 | C39: MEJORAMIENTO DE CAMINOS RURALES | D39: Mejoramiento camino rural CR-HUE-36 tramo San Martin Cuchumatan union cantinil Huehuetenango | E39: 47331000 | F39: 1000000 | G39: 348216.3 | H39: =G39/F39 -> 0.3482163 | I39: 211099
B40: 11130013 14-000-001-000-002-1416 | C40: CONSTRUCCIÓN, AMPLIACIÓN, RECONSTRUCCIÓN Y MEJORAMIENTO DE ESCUELAS DE PRIMARIA | E40: 0 | F40: 2312052 | G40: 1931846.5 | H40: =G40/F40 -> 0.83555494 | I40: 33423
B41: 1130013 14-000-001-000-002-0602 | D41: Reposición escuela primaria oficial rutal mixta aldea las astas barberena santa rosa | E41: 624278 | F41: 4255053 | G41: 1255327.2 | H41: =G41/F41 -> 0.29502034 | I41: 224376
B42: 1130013 14-000-001-000-002-0610 | D42: Reposición escuela primaria oficial rural mixta aldea llano grande santa maria ixhuatan santa rosa | E42: 687322 | F42: 4980360 | G42: 567796.37 | H42: =G42/F42 -> 0.11400709 | I42: 224215
B43: 1130013 14-000-001-000-002-0610 | D43: Mejoramiento escuela primaria oficial rural mixta, aldea san jose pineda, santa maria ixhuatan, santa rosa | E43: 810167 | F43: 5029200 | G43: 911176.33 | H43: =G43/F43 -> 0.18117719 | I43: 155983
B44: 1130013 14-000-002-000-001-1207 | C44: CONSTRUCCIÓN, AMPLIACIÓN Y MEJORAMIENTO DE EDIFICIOS DE SALUD | E44: 0 | F44: 2088359 | G44: 915862.74 | H44: =G44/F44 -> 0.43855618 | I44: 209397
...

Sheet MICIVI sin los q dijo minfin
B5: CODIGO PRESUPUESTARIO | C5: CODIGO PRESUPUESTARIIO | D5: ACTIVIDAD PRESUPUESTARIA | E5: PRESUPUESTO | G5: AVANCE FINANCIERO | I5: CODIGO SNIP
E6: INICIAL | F6: VIGENTE | G6: EJECUCIÓN ACUMULADA | H6: % DE EJECUCION
B7: 11130013 202-111-01-0001-000-001-3000 | C7: CONSTRUCCIÓN DE CARRETERAS PRIMARIAS PUENTES Y DISTRIBUIDORES DE TRÁNSITO SNIP60132 | D7: Construcción carretera franja transversal del norte (frontera con México- Modesto Méndez, Izabal) | E7: 92216000 | F7: 90244380 | G7: 16772392 | H7: =G7/F7 -> 0.18585525 | I7: 60132
B8: 11130013 111-001-001-000-002-0899 | C8: REPOSICIÓN DE CARRETERAS PRIMARIAS, PUENTES Y DISTRIBUIDORES DE TRÁNSITO | D8: Reposicion carretera RN 1 tramo godinez san andres semetabaj panajachel solola | E8: 48600000 | F8: 69459811 | G8: 33701645 | H8: =G8/F8 -> 0.48519633 | I8: 208415
B9: 11130013 -111001-001-000-002-0599 | D9: Reposición carretera CA-09 SUR tramo palin -Escuintla, Escuintla | E9: 26000000 | F9: 28173428 | G9: 28173427 | H9: =G9/F9 -> 0.99999996 | I9: 209024
B10: 11130013 -11-001-001-000-002-2099 | D10: Reposición carretera ruta CA 10 tramo quezaltepeque frontera agua caliente chiquimula | E10: 54304761 | F10: 22739140 | G10: 21129834 | H10: =G10/F10 -> 0.92922751 | I10: 209051
B11: 11130013-11-001-001-000-002-0899 | D11: Reposicion carretera CA 01 OOCC tramo cuatro caminos KM 188600 pologua km 205 000 totonicapan | E11: 23191912 | F11: 3000000 | G11: 0 | H11: =G11/F11 -> 0 | I11: 209677
B12: 11130013 11-001-001-000-002-3600 | D12: Reposicion carretera CA 01 ACC tramo pologua km 205000 totonicapan chiquibal km 232 000 quetzaltenango | E12: 41347830 | F12: 5100000 | G12: 459062.26 | H12: =G12/F12 -> 0.090012208 | I12: 209678
B13: 11130013 11-001-001-000-002-3600 | D13: Reposición carretera RN 11 tramo bifurcacion CA 02 occidente cocales suchitepequez san lucas toliman solola | E13: 50319389 | F13: 20946675 | G13: 20889071 | H13: =G13/F13 -> 0.99724998 | I13: 209682
B14: 11130013 11-001-001-000-002-3600 | D14: Reposición carretera cito-180 tramo CA-2 OCC (Km 178+000) Retalhuleu - cruce a zunil (km 213+000) Quetzaltenango | E14: 23281973 | F14: 728638 | G14: 728484.87 | H14: =G14/F14 -> 0.99978984 | I14: 207590
B15: 11130013 11-001-001-000-002-2099 | D15: Reposición de carretera CA-12, tramo KM 212+200 frontera la ermita (Km 227+404) Chiquimula | E15: 3300636 | F15: 10930680 | G15: 9805023.3 | H15: =G15/F15 -> 0.89701861 | I15: 149860
B16: 11130013 11-001-001-000-002-1609 | D16: Reposición carretera CITO 180 tramo CA-2 Occ. (km.178+000) Retalhuleu Cruce zunil (km 213+000) Quetzaltenango (MICIVI) | E16: 0 | F16: 12143524 | G16: 445696.74 | H16: =G16/F16 -> 0.036702422 | I16: 228252
B17: 11130013 11-001-001-000-002-1609 | D17: Reposición carretera CA-12 tramo km. 212+200 frontera la Ermita (km. 227+404) Chiquimula (MICIVI) | E17: 0 | F17: 12386032 | G17: 398880.6 | H17: =G17/F17 -> 0.032204067 | I17: 228343
B18: 11130013 11-001-001-000-003-1699 | C18: MEJORAMIENTO DE CARRETERAS PRIMARIAS, PUENTES Y DISTRIBUIDORES DE TRÁNSITO | D18: Mejoramiento carretera RN7E tramo I : San julian-Tamahu-Tucuru -puente chasco (pavimentacion) | E18: 147845465 | F18: 73090761 | G18: 73090760 | H18: =G18/F18 -> 0.99999999 | I18: 34968
B19: 11130013 11-001-001-000-003-1299 | D19: Mejoramiento carretera RN 12 Sur, tramo san marcos guativil El Querzal SINTANA | E19: 60000000 | F19: 76600000 | G19: 71241510 | H19: =G19/F19 -> 0.93004582 | I19: 116535
B20: 11130013 11-001-001-000-003-1699 | D20: Mejoramiento de carretera RN 05 tramo campur-fray bartolome de las casas (pavimentacion) | E20: 133231886 | F20: 10134533 | G20: 0 | H20: =G20/F20 -> 0 | I20: 15149
B21: 11130013 11-001-002-000-001-1499 | C21: CONSTRUCCIÓN DE CARRETERAS SECUNDARIAS Y PUENTES | D21: Construcción carretera RD QUI-21 tramo II seca-Lacentillo -SAQUIXPEC El PARAISO longitud 36.54 KM | E21: 36475246 | F21: 36475246 | G21: 7322821.7 | H21: =G21/F21 -> 0.20076141 | I21: 116527
B22: 11130013 11-001-002-000-001-1499 | D22: Construcción carretera RD QUI-21 tramo san juan chactela- ixcan longitud 45.6 km. | E22: 45347603 | F22: 45347603 | G22: 6697145.2 | H22: =G22/F22 -> 0.14768466 | I22: 132258
B23: 11130013 11-001-002-000-002-1601 | C23: REPOSICIÓN DE CARRETERAS SECUNDARIAS Y PUENTES | D23: Reposicion carretera RD Av. 9 tramo coban finca chitoc Alta Verapaz | E23: 22077494 | F23: 18741577 | G23: 16149118 | H23: =G23/F23 -> 0.86167339 | I23: 209016
B24: 11130013 11-001-002-000-002-0999 | D24: Mejoramiento carretera RN-7e tramo I : San Julian- tamahu- Tucuru- puente Chasco (pavimentación) (MICIVI) | E24: 0 | F24: 12316168 | G24: 0 | H24: =G24/F24 -> 0 | I24: 228035
B25: 11130013 11-001-002-000-002-1199 | D25: Ampliación Escuela primaria oficial rural mixta, aldea la union, Malacatan San Marcos UDI: 12-15-0684-43 (MICIVI) | E25: 0 | F25: 7441805 | G25: 224087.69 | H25: =G25/F25 -> 0.030112008 | I25: 228061
B26: 11130013 11-001-002-000-002-3600 | E26: 0 | F26: 11053043 | G26: 11024657 | H26: =G26/F26 -> 0.99743185 | I26: 228251
B27: 11130013 11-001-002-000-003-0805 | C27: MEJORAMIENTO DE CARRETERAS SECUNDARIAS Y PUENTES | E27: 12730500 | F27: 0 | G27: 0 | H27: =G27/F27 -> #DIV/0! | I27: 221962
B28: 11130013 11-001-002-000-003-0706 | E28: 40000000 | F28: 2778672 | G28: 1200000 | H28: =G28/F28 -> 0.43186098 | I28: 221965
B29: 11130013 11-01-002-000-003-0805 | D29: Mejoramiento carretera tramo rancho de teja momostenango (pavimentación) | E29: 23750000 | F29: 0 | G29: 0 | H29: =G29/F29 -> #DIV/0! | I29: 116530
B30: 11130013 11-01-002-000-003-1420 | D30: Mejoramiento carretera RD qui 25 tramo FTN (Aldea san Francisco) ingenieros (frontera) | E30: 1300000 | F30: 34248424 | G30: 0 | H30: =G30/F30 -> 0 | I30: 142767
B31: 11130013 11-01-002-000-003-1499 | D31: Mejoramiento carretera RD Qui 21 tramo III la libertad rio copon asencion copon san juan Chactela | E31: 31881336 | F31: 31881336 | G31: 1223010.2 | H31: =G31/F31 -> 0.038361323 | I31: 167405
B32: 11130013 11-01-002-000-003-1499 | D32: Mejoramiento carretera RD quiche 4 tramo santa cruz del quiche patzite chimente | E32: 46050000 | F32: 67167773 | G32: 30167081 | H32: =G32/F32 -> 0.44913029 | I32: 189499
B33: 11130013 11-01-002-000-003-1299 | E33: 0 | F33: 48103659 | G33: 38472345 | H33: =G33/F33 -> 0.79978001 | I33: 190108
B34: 11130013 11-01-002-000-003-0909 | E34: 0 | F34: 11510337 | G34: 4184226.1 | H34: =G34/F34 -> 0.36351899 | I34: 190122
B35: 11130013 11-01-002-000-003-0799 | D35: Mejoramiento carretera RD sol 04 tramo santiago atitaln km 171000 San pedro la laguna Km 174220 solola | E35: 16100000 | F35: 1200000 | G35: 981253.77 | H35: =G35/F35 -> 0.81771147 | I35: 221005
B36: 11130013 11-01-002-000-003-1699 | D36: Mejoramiento carretera RDAV 06, tramo lanquin - chabon (pavimentación ) | E36: 27524022 | F36: 27524022 | G36: 3474885 | H36: =G36/F36 -> 0.12624917 | I36: 72220
B37: 11130013 11-01-002-000-003-3000 | D37: Mejoramiento carretera RD CHM 17 tramo san martin jilotepeque joyabaj pavimentacion | E37: 193950000 | F37: 3100000 | G37: 0 | H37: =G37/F37 -> 0 | I37: 95927
B38: 11130013 11-01-002-000-003-1499 | D38: Mejoramiento carretera RD QUI-21 tramo I: chicaman -El Soch- SECA longitud 33.66 km. | E38: 33517793 | F38: 33517793 | G38: 7414263 | H38: =G38/F38 -> 0.22120379 | I38: 72219
B39: 11130013 11-002-001-000-001-3000 | C39: MEJORAMIENTO DE CAMINOS RURALES | D39: Mejoramiento camino rural CR-HUE-36 tramo San Martin Cuchumatan union cantinil Huehuetenango | E39: 47331000 | F39: 1000000 | G39: 348216.3 | H39: =G39/F39 -> 0.3482163 | I39: 211099
B40: 1130013 14-000-001-000-002-0602 | D40: Reposición escuela primaria oficial rutal mixta aldea las astas barberena santa rosa | E40: 624278 | F40: 4255053 | G40: 1255327.2 | H40: =G40/F40 -> 0.29502034 | I40: 224376
B41: 1130013 14-000-001-000-002-0610 | D41: Reposición escuela primaria oficial rural mixta aldea llano grande santa maria ixhuatan santa rosa | E41: 687322 | F41: 4980360 | G41: 567796.37 | H41: =G41/F41 -> 0.11400709 | I41: 224215
B42: 1130013 14-000-001-000-002-0610 | D42: Mejoramiento escuela primaria oficial rural mixta, aldea san jose pineda, santa maria ixhuatan, santa rosa | E42: 810167 | F42: 5029200 | G42: 911176.33 | H42: =G42/F42 -> 0.18117719 | I42: 155983
B43: 1130013 14-000-002-000-001-1602 | D43: Mejoramiento centro de atención permanente (cap) santa cruz, alta verapaz | E43: 632904 | F43: 1965365 | G43: 716337.04 | H43: =G43/F43 -> 0.36448041 | I43: 209400
B44: 1130013 14-001-002-000-003-1501 | C44: MEJORAMIENTO DE CARRETERAS SECUNDARIAS Y PUENTES | D44: Mejoramiento carretera puente el motagua aldea llano grangre, salama baja verapaz | E44: 29775000 | F44: 29495346 | G44: 29487469 | H44: =G44/F44 -> 0.99973293 | I44: 130902
...

Sheet MICIVI sin 12 snip
B5: CODIGO PRESUPUESTARIO | C5: CODIGO PRESUPUESTARIIO | D5: ACTIVIDAD PRESUPUESTARIA | E5: PRESUPUESTO | G5: AVANCE FINANCIERO | I5: CODIGO SNIP
E6: INICIAL | F6: VIGENTE | G6: EJECUCIÓN ACUMULADA | H6: % DE EJECUCION
B7: 11130013 202-111-01-0001-000-001-3000 | C7: CONSTRUCCIÓN DE CARRETERAS PRIMARIAS PUENTES Y DISTRIBUIDORES DE TRÁNSITO SNIP60132 | D7: Construcción carretera franja transversal del norte (frontera con México- Modesto Méndez, Izabal) | E7: 92216000 | F7: 90244380 | G7: 16772392 | H7: =G7/F7 -> 0.18585525 | I7: 60132
B8: 11130013 111-001-001-000-002-0899 | C8: REPOSICIÓN DE CARRETERAS PRIMARIAS, PUENTES Y DISTRIBUIDORES DE TRÁNSITO | D8: Reposicion carretera RN 1 tramo godinez san andres semetabaj panajachel solola | E8: 48600000 | F8: 69459811 | G8: 33701645 | H8: =G8/F8 -> 0.48519633 | I8: 208415
B9: 11130013 -111001-001-000-002-0599 | D9: Reposición carretera CA-09 SUR tramo palin -Escuintla, Escuintla | E9: 26000000 | F9: 28173428 | G9: 28173427 | H9: =G9/F9 -> 0.99999996 | I9: 209024
B10: 11130013 -11-001-001-000-002-2099 | D10: Reposición carretera ruta CA 10 tramo quezaltepeque frontera agua caliente chiquimula | E10: 54304761 | F10: 22739140 | G10: 21129834 | H10: =G10/F10 -> 0.92922751 | I10: 209051
B11: 11130013-11-001-001-000-002-0899 | D11: Reposicion carretera CA 01 OOCC tramo cuatro caminos KM 188600 pologua km 205 000 totonicapan | E11: 23191912 | F11: 3000000 | G11: 0 | H11: =G11/F11 -> 0 | I11: 209677
B12: 11130013 11-001-001-000-002-3600 | D12: Reposicion carretera CA 01 ACC tramo pologua km 205000 totonicapan chiquibal km 232 000 quetzaltenango | E12: 41347830 | F12: 5100000 | G12: 459062.26 | H12: =G12/F12 -> 0.090012208 | I12: 209678
B13: 11130013 11-001-001-000-002-3600 | D13: Reposición carretera RN 11 tramo bifurcacion CA 02 occidente cocales suchitepequez san lucas toliman solola | E13: 50319389 | F13: 20946675 | G13: 20889071 | H13: =G13/F13 -> 0.99724998 | I13: 209682
B14: 11130013 11-001-001-000-002-3600 | D14: Reposición carretera cito-180 tramo CA-2 OCC (Km 178+000) Retalhuleu - cruce a zunil (km 213+000) Quetzaltenango | E14: 23281973 | F14: 728638 | G14: 728484.87 | H14: =G14/F14 -> 0.99978984 | I14: 207590
B15: 11130013 11-001-001-000-002-2099 | D15: Reposición de carretera CA-12, tramo KM 212+200 frontera la ermita (Km 227+404) Chiquimula | E15: 3300636 | F15: 10930680 | G15: 9805023.3 | H15: =G15/F15 -> 0.89701861 | I15: 149860
B16: 11130013 11-001-001-000-002-1609 | D16: Reposición carretera CITO 180 tramo CA-2 Occ. (km.178+000) Retalhuleu Cruce zunil (km 213+000) Quetzaltenango (MICIVI) | I16: 228252
B17: 11130013 11-001-001-000-002-1609 | D17: Reposición carretera CA-12 tramo km. 212+200 frontera la Ermita (km. 227+404) Chiquimula (MICIVI) | I17: 228343
B18: 11130013 11-001-001-000-003-1699 | C18: MEJORAMIENTO DE CARRETERAS PRIMARIAS, PUENTES Y DISTRIBUIDORES DE TRÁNSITO | D18: Mejoramiento carretera RN7E tramo I : San julian-Tamahu-Tucuru -puente chasco (pavimentacion) | E18: 147845465 | F18: 73090761 | G18: 73090760 | H18: =G18/F18 -> 0.99999999 | I18: 34968
B19: 11130013 11-001-001-000-003-1299 | D19: Mejoramiento carretera RN 12 Sur, tramo san marcos guativil El Querzal SINTANA | E19: 60000000 | F19: 76600000 | G19: 71241510 | H19: =G19/F19 -> 0.93004582 | I19: 116535
B20: 11130013 11-001-001-000-003-1699 | D20: Mejoramiento de carretera RN 05 tramo campur-fray bartolome de las casas (pavimentacion) | E20: 133231886 | F20: 10134533 | G20: 0 | H20: =G20/F20 -> 0 | I20: 15149
B21: 11130013 11-001-002-000-001-1499 | C21: CONSTRUCCIÓN DE CARRETERAS SECUNDARIAS Y PUENTES | D21: Construcción carretera RD QUI-21 tramo II seca-Lacentillo -SAQUIXPEC El PARAISO longitud 36.54 KM | E21: 36475246 | F21: 36475246 | G21: 7322821.7 | H21: =G21/F21 -> 0.20076141 | I21: 116527
B22: 11130013 11-001-002-000-001-1499 | D22: Construcción carretera RD QUI-21 tramo san juan chactela- ixcan longitud 45.6 km. | E22: 45347603 | F22: 45347603 | G22: 6697145.2 | H22: =G22/F22 -> 0.14768466 | I22: 132258
B23: 11130013 11-001-002-000-002-1601 | C23: REPOSICIÓN DE CARRETERAS SECUNDARIAS Y PUENTES | D23: Reposicion carretera RD Av. 9 tramo coban finca chitoc Alta Verapaz | E23: 22077494 | F23: 18741577 | G23: 16149118 | H23: =G23/F23 -> 0.86167339 | I23: 209016
B24: 11130013 11-001-002-000-002-0999 | D24: Mejoramiento carretera RN-7e tramo I : San Julian- tamahu- Tucuru- puente Chasco (pavimentación) (MICIVI) | I24: 228035
B25: 11130013 11-001-002-000-002-1199 | D25: Ampliación Escuela primaria oficial rural mixta, aldea la union, Malacatan San Marcos UDI: 12-15-0684-43 (MICIVI) | I25: 228061
B26: 11130013 11-001-002-000-002-3600 | I26: 228251
B27: 11130013 11-001-002-000-003-0805 | C27: MEJORAMIENTO DE CARRETERAS SECUNDARIAS Y PUENTES | E27: 12730500 | F27: 0 | G27: 0 | H27: =G27/F27 -> #DIV/0! | I27: 221962
B28: 11130013 11-001-002-000-003-0706 | E28: 40000000 | F28: 2778672 | G28: 1200000 | H28: =G28/F28 -> 0.43186098 | I28: 221965
B29: 11130013 11-01-002-000-003-0805 | D29: Mejoramiento carretera tramo rancho de teja momostenango (pavimentación) | E29: 23750000 | F29: 0 | G29: 0 | H29: =G29/F29 -> #DIV/0! | I29: 116530
B30: 11130013 11-01-002-000-003-1420 | D30: Mejoramiento carretera RD qui 25 tramo FTN (Aldea san Francisco) ingenieros (frontera) | E30: 1300000 | F30: 34248424 | G30: 0 | H30: =G30/F30 -> 0 | I30: 142767
B31: 11130013 11-01-002-000-003-1499 | D31: Mejoramiento carretera RD Qui 21 tramo III la libertad rio copon asencion copon san juan Chactela | E31: 31881336 | F31: 31881336 | G31: 1223010.2 | H31: =G31/F31 -> 0.038361323 | I31: 167405
B32: 11130013 11-01-002-000-003-1499 | D32: Mejoramiento carretera RD quiche 4 tramo santa cruz del quiche patzite chimente | E32: 46050000 | F32: 67167773 | G32: 30167081 | H32: =G32/F32 -> 0.44913029 | I32: 189499
B33: 11130013 11-01-002-000-003-1299 | I33: 190108
B34: 11130013 11-01-002-000-003-0909 | I34: 190122
B35: 11130013 11-01-002-000-003-0799 | D35: Mejoramiento carretera RD sol 04 tramo santiago atitaln km 171000 San pedro la laguna Km 174220 solola | E35: 16100000 | F35: 1200000 | G35: 981253.77 | H35: =G35/F35 -> 0.81771147 | I35: 221005
B36: 11130013 11-01-002-000-003-1699 | D36: Mejoramiento carretera RDAV 06, tramo lanquin - chabon (pavimentación ) | E36: 27524022 | F36: 27524022 | G36: 3474885 | H36: =G36/F36 -> 0.12624917 | I36: 72220
B37: 11130013 11-01-002-000-003-3000 | D37: Mejoramiento carretera RD CHM 17 tramo san martin jilotepeque joyabaj pavimentacion | E37: 193950000 | F37: 3100000 | G37: 0 | H37: =G37/F37 -> 0 | I37: 95927
B38: 11130013 11-01-002-000-003-1499 | D38: Mejoramiento carretera RD QUI-21 tramo I: chicaman -El Soch- SECA longitud 33.66 km. | E38: 33517793 | F38: 33517793 | G38: 7414263 | H38: =G38/F38 -> 0.22120379 | I38: 72219
B39: 11130013 11-002-001-000-001-3000 | C39: MEJORAMIENTO DE CAMINOS RURALES | D39: Mejoramiento camino rural CR-HUE-36 tramo San Martin Cuchumatan union cantinil Huehuetenango | E39: 47331000 | F39: 1000000 | G39: 348216.3 | H39: =G39/F39 -> 0.3482163 | I39: 211099
B40: 11130013 14-000-001-000-002-1416 | C40: CONSTRUCCIÓN, AMPLIACIÓN, RECONSTRUCCIÓN Y MEJORAMIENTO DE ESCUELAS DE PRIMARIA | I40: 33423
B41: 1130013 14-000-001-000-002-0602 | D41: Reposición escuela primaria oficial rutal mixta aldea las astas barberena santa rosa | E41: 624278 | F41: 4255053 | G41: 1255327.2 | H41: =G41/F41 -> 0.29502034 | I41: 224376
B42: 1130013 14-000-001-000-002-0610 | D42: Reposición escuela primaria oficial rural mixta aldea llano grande santa maria ixhuatan santa rosa | E42: 687322 | F42: 4980360 | G42: 567796.37 | H42: =G42/F42 -> 0.11400709 | I42: 224215
B43: 1130013 14-000-001-000-002-0610 | D43: Mejoramiento escuela primaria oficial rural mixta, aldea san jose pineda, santa maria ixhuatan, santa rosa | E43: 810167 | F43: 5029200 | G43: 911176.33 | H43: =G43/F43 -> 0.18117719 | I43: 155983
B44: 1130013 14-000-002-000-001-1207 | C44: CONSTRUCCIÓN, AMPLIACIÓN Y MEJORAMIENTO DE EDIFICIOS DE SALUD | I44: 209397
...

Sheet MICIVI (2)
B5: CODIGO PRESUPUESTARIO | C5: CODIGO PRESUPUESTARIIO | D5: ACTIVIDAD PRESUPUESTARIA | E5: PRESUPUESTO | G5: AVANCE FINANCIERO | I5: CODIGO SNIP
E6: INICIAL | F6: VIGENTE | G6: EJECUCIÓN ACUMULADA | H6: % DE EJECUCION
B7: 11130013 202-111-01-0001-000-001-3000 | C7: CONSTRUCCIÓN DE CARRETERAS PRIMARIAS PUENTES Y DISTRIBUIDORES DE TRÁNSITO SNIP60132 | D7: Construcción carretera franja transversal del norte (frontera con México- Modesto Méndez, Izabal) | E7: 92216000 | F7: 90244380 | G7: 16772392 | H7: =G7/F7 -> 0.18585525 | I7: 60132
C8: MEJORAMIENTO DE CARRETERAS PRIMARIAS, PUENTES Y DISTRIBUIDORES DE TRÁNSITO | E8: 147845465 | F8: 73090761 | G8: 73090760 | I8: 34968
E9: 60000000 | F9: 76600000 | G9: 71241510 | I9: 116535
E10: 133231886 | F10: 10134533 | G10: 0 | I10: 15149
C11: REPOSICIÓN DE CARRETERAS PRIMARIAS, PUENTES Y DISTRIBUIDORES DE TRÁNSITO | D11: Reposicion carretera RN 1 tramo godinez san andres semetabaj panajachel solola | E11: 48600000 | F11: 69459811 | G11: 33701645 | I11: 208415
D12: Reposición carretera CA-09 SUR tramo palin -Escuintla, Escuintla | E12: 26000000 | F12: 28173428 | G12: 28173427 | I12: 209024
D13: Reposición carretera ruta CA 10 tramo quezaltepeque frontera agua caliente chiquimula | E13: 54304761 | F13: 22739140 | G13: 21129834 | I13: 209051
D14: Reposicion carretera CA 01 OOCC tramo cuatro caminos KM 188600 pologua km 205 000 totonicapan | E14: 23191912 | F14: 3000000 | G14: 0 | I14: 209677
D15: Reposicion carretera CA 01 ACC tramo pologua km 205000 totonicapan chiquibal km 232 000 quetzaltenango | E15: 41347830 | F15: 5100000 | G15: 459062.26 | I15: 209678
D16: Reposición carretera RN 11 tramo bifurcacion CA 02 occidente cocales suchitepequez san lucas toliman solola | E16: 50319389 | F16: 20946675 | G16: 20889071 | I16: 209682
D17: Reposición carretera cito-180 tramo CA-2 OCC (Km 178+000) Retalhuleu - cruce a zunil (km 213+000) Quetzaltenango | E17: 23281973 | F17: 728638 | G17: 728484.87 | I17: 207590
D18: Reposición de carretera CA-12, tramo KM 212+200 frontera la ermita (Km 227+404) Chiquimula | E18: 3300636 | F18: 10930680 | G18: 9805023.3 | I18: 149860
D19: Reposición carretera CITO 180 tramo CA-2 Occ. (km.178+000) Retalhuleu Cruce zunil (km 213+000) Quetzaltenango (MICIVI) | E19: 0 | F19: 12143524 | G19: 445696.74 | I19: 228252
D20: Reposición carretera CA-12 tramo km. 212+200 frontera la Ermita (km. 227+404) Chiquimula (MICIVI) | E20: 0 | F20: 12386032 | G20: 398880.6 | I20: 228343
E21: =SUM(E7:E20) -> 703639852 | F21: =SUM(F7:F20) -> 435677602 | G21: =SUM(G7:G20) -> 2.7683579e+08
C22: CONSTRUCCIÓN DE CARRETERAS SECUNDARIAS Y PUENTES | E22: 36475246 | F22: 36475246 | G22: 7322821.7 | I22: 116527
E23: 45347603 | F23: 45347603 | G23: 6697145.2 | I23: 132258
C24: MEJORAMIENTO DE CARRETERAS SECUNDARIAS Y PUENTES | E24: 12730500 | F24: 0 | G24: 0 | I24: 221962
E25: 40000000 | F25: 2778672 | G25: 1200000 | I25: 221965
E26: 23750000 | F26: 0 | G26: 0 | I26: 116530
E27: 1300000 | F27: 34248424 | G27: 0 | I27: 142767
E28: 31881336 | F28: 31881336 | G28: 1223010.2 | I28: 167405
E29: 46050000 | F29: 67167773 | G29: 30167081 | I29: 189499
E30: 0 | F30: 48103659 | G30: 38472345 | I30: 190108
E31: 0 | F31: 11510337 | G31: 4184226.1 | I31: 190122
E32: 16100000 | F32: 1200000 | G32: 981253.77 | I32: 221005
E33: 27524022 | F33: 27524022 | G33: 3474885 | I33: 72220
E34: 193950000 | F34: 3100000 | G34: 0 | I34: 95927
E35: 33517793 | F35: 33517793 | G35: 7414263 | I35: 72219
C36: MEJORAMIENTO DE CARRETERAS SECUNDARIAS Y PUENTES | D36: Mejoramiento carretera puente el motagua aldea llano grangre, salama baja verapaz | E36: 29775000 | F36: 29495346 | G36: 29487469 | I36: 130902
E37: =SUM(E22:E35) -> 508626500 | F37: =SUM(F22:F35) -> 342854865 | G37: =SUM(G22:G35) -> 1.0113703e+08
C38: REPOSICIÓN DE CARRETERAS SECUNDARIAS Y PUENTES | D38: Reposicion carretera RD Av. 9 tramo coban finca chitoc Alta Verapaz | E38: 22077494 | F38: 18741577 | G38: 16149118 | I38: 209016
D39: Mejoramiento carretera RN-7e tramo I : San Julian- tamahu- Tucuru- puente Chasco (pavimentación) (MICIVI) | E39: 0 | F39: 12316168 | G39: 0 | I39: 228035
D40: Ampliación Escuela primaria oficial rural mixta, aldea la union, Malacatan San Marcos UDI: 12-15-0684-43 (MICIVI) | E40: 0 | F40: 7441805 | G40: 224087.69 | I40: 228061
E41: 0 | F41: 11053043 | G41: 11024657 | I41: 228251
E42: =SUM(E38:E41) -> 22077494 | F42: =SUM(F38:F41) -> 49552593 | G42: =SUM(G38:G41) -> 27397863
C43: MEJORAMIENTO DE CAMINOS RURALES | D43: Mejoramiento camino rural CR-HUE-36 tramo San Martin Cuchumatan union cantinil Huehuetenango | E43: 47331000 | F43: 1000000 | G43: 348216.3 | I43: 211099
C44: CONSTRUCCIÓN, AMPLIACIÓN, RECONSTRUCCIÓN Y MEJORAMIENTO DE ESCUELAS DE PRIMARIA | E44: 0 | F44: 2312052 | G44: 1745944.4 | I44: 33423
...

Sheet MCD
A2: EJECUCIÓN FINANCIERA DEL POASAN 2025
A3: Periodo del 01 de enero al 31 de octubre de 2025
A6: ENTIDAD: MINISTERIO DE CULTURA Y DEPORTES (MCD)
A8: CÓDIGO PRESUPUESTARIO | B8: PROGRAMA | C8: SUBPROGRAMA | D8: ACTIVIDAD PRESUPUESTARIA/OBRA | E8: PRESUPUESTO | G8: EJECUCIÓN FINANCIERA
E9: INICIAL | F9: VIGENTE | G9: EJECUCIÓN ACUMULADA | H9: % DE EJECUCIÓN
A10: 11130015-000-13-00-000-002-000 | B10: FOMENTO AL DEPORTE NO FEDERADO Y A LA RECREACIÓN | C10: SIN SUBPROGRAMA | D10: SERVICIOS DE APOYO AL DEPORTE Y A LA RECREACIÓN | E10: 77034273 | F10: 82624556 | G10: 29652840 | H10: =G10/F10 -> 0.35888652
A11: 11130015-000-13-00-000-004-000 | D11: SERVICIOS DE PROMOCIÓN Y DESARROLLO INTEGRAL DE LA MUJER | E11: 11029281 | F11: 7869660 | G11: 2283427.1 | H11: =G11/F11 -> 0.29015574
A12: 11130015-000-13-00-000-005-000 | D12: SERVICIOS DE FOMENTO AL DEPORTE Y LA RECREACIÓN EN JÓVENES | E12: 17108176 | F12: 12939734 | G12: 2342317.3 | H12: =G12/F12 -> 0.18101742
A13: 11130015-000-13-00-000-007-000 | D13: SERVICIOS DE DEPORTE Y RECREACIÓN PARA PERSONAS EN SITUACIÓN DE VULNERABILIDAD | E13: 3824570 | F13: 4118610 | G13: 988176.7 | H13: =G13/F13 -> 0.23992966
A14: 11130015-000-13-00-000-008-000 | D14: PROMOCIÓN Y ACCESO A LA ACTIVIDAD FÍSICA Y RECREACIÓN A TRAVÉS DE EVENTOS DE CARÁCTER MASIVO | E14: 19455945 | F14: 18915596 | G14: 5962742.4 | H14: =G14/F14 -> 0.3152289
A15: 11130015-000-13-00-001-000-001 | D15: CONSTRUCCIÓN, AMPLIACIÓN Y MEJORAMIENTO DE INSTALACIONES DEPORTIVAS Y RECREATIVAS | E15: 44763437 | F15: 55379099 | G15: 8713450.2 | H15: =G15/F15 -> 0.15734185
A16: TOTAL | E16: =SUM(E10:E15) -> 173215682 | F16: =SUM(F10:F15) -> 181847255 | G16: =SUM(G10:G15) -> 49942953 | H16: =G16/F16 -> 0.27464233
A17: Fuente: R00815829.rpt

Sheet MARN
A2: EJECUCIÓN FINANCIERA DEL POASAN 2025
A3: Periodo del 01 de enero al 31 de octubre de 2025
A6: ENTIDAD: MINISTERIO DE AMBIENTE Y RECURSOS NATURALES (MARN)
A8: CÓDIGO PRESUPUESTARIO | B8: PROGRAMA | C8: SUBPROGRAMA | D8: ACTIVIDAD PRESUPUESTARIA | E8: PRESUPUESTO | G8: EJECUCIÓN FINANCIERA
E9: INICIAL | F9: VIGENTE | G9: EJECUCIÓN ACUMULADA | H9: % DE EJECUCIÓN
A10: 11130017-000-12-00-000-003-000 | B10: CONSERVACIÓN Y PROTECCIÓN DE LOS RECURSOS NATURALES Y AMBIENTE | C10: SIN SUBPROGRAMA | D10: ASESORÍA Y CONTROL EN LA GESTIÓN DE RESIDUOS Y DESECHOS SÓLIDOS | E10: 6541810 | F10: 8935853 | G10: 5934359.5 | H10: =G10/F10 -> 0.66410666
A11: 11130017-000-12-00-000-004-000 | D11: MECANISMOS DE CONSERVACIÓN Y PROTECCIÓN DEL RECURSO HÍDRICO | E11: 19356625 | F11: 14260419 | G11: 9636842.7 | H11: =G11/F11 -> 0.67577556
A12: TOTAL | E12: =SUM(E10:E11) -> 25898435 | F12: =SUM(F10:F11) -> 23196272 | G12: =SUM(G10:G11) -> 15571202 | H12: =G12/F12 -> 0.67128037
A13: Fuente: R00815829.rpt

Sheet MIDES 
A2: EJECUCIÓN FINANCIERA DEL POASAN 2025
A3: Periodo del 01 de enero al 31 de octubre de 2025
A6: ENTIDAD: MINISTERIO DE DESARROLLO SOCIAL (MIDES)
A8: CÓDIGO PRESUPUESTARIO | B8: PROGRAMA | C8: SUBPROGRAMA | D8: ACTIVIDAD PRESUPUESTARIA/OBRA | E8: PRESUPUESTO | G8: EJECUCIÓN FINANCIERA
E9: INICIAL | F9: VIGENTE | G9: EJECUCIÓN ACUMULADA | H9: % DE EJECUCIÓN
A10: 11130020-202-14-00-000-002-000 | B10: APOYO PARA EL CONSUMO ADECUADO DE ALIMENTOS | C10: SIN SUBPROGRAMA | D10: COMEDORES | E10: 179849180 | F10: 203098819 | G10: 1.3001736e+08 | H10: =G10/F10 -> 0.64016797
A11: 11130020-202-14-00-000-003-000 | D11: TRANSFERENCIAS MONETARIAS CONDICIONADAS PARA ALIMENTOS | E11: 117541070 | F11: 117986907 | G11: 1.098975e+08 | H11: =G11/F11 -> 0.93143814
A12: 11130020-203-19-04-000-001-000 | B12: DOTACIONES, SERVICIOS E INFRAESTRUCTURA PARA EL DESARROLLO SOCIAL | C12: DOTACIONES, SERVICIOS E INFRAESTRUCTURA PARA SISTEMAS DE AGUA POTABLE, SANEAMIENTO Y AMBIENTE | D12: DOTACIÓN DE MATERIALES DE CONSTRUCCIÓN Y EQUIPO PARA SERVICIOS DE SISTEMAS DE AGUA POTABLE | E12: 22475753 | F12: 13610000 | G12: 3511190.5 | H12: =G12/F12 -> 0.25798608
A13: 11130020-203-19-04-001-000-001 | D13: CONSTRUCCIÓN, AMPLIACIÓN Y MEJORAMIENTO DE SISTEMAS DE AGUA POTABLE Y POZOS MECÁNICOS | E13: 13559898 | F13: 9449679 | G13: 1069822 | H13: =G13/F13 -> 0.11321252
A14: 11130020-203-19-04-001-000-002 | D14: CONSTRUCCIÓN, AMPLIACIÓN Y MEJORAMIENTO DE PLANTAS DE TRATAMIENTO | E14: 40095800 | F14: 981299 | G14: 430022.33 | H14: =G14/F14 -> 0.43821743
A15: 11130020-203-19-04-001-000-003 | D15: CONSTRUCCIÓN, AMPLIACIÓN Y MEJORAMIENTO DE SISTEMAS DE DRENAJES Y SISTEMAS DE ALCANTARILLADO | E15: 30261247 | F15: 27174029 | G15: 8301116.2 | H15: =G15/F15 -> 0.30547977
A16: 11130020-203-19-05-000-001-000 | C16: DOTACIONES, SERVICIOS E INFRAESTRUCTURA PARA EL DESARROLLO COMUNITARIO Y PRODUCTIVO | D16: DOTACIÓN DE MATERIALES ENSERES Y EQUIPO PARA EL DESARROLLO COMUNITARIO | E16: 30500870 | F16: 59692747 | G16: 33105260 | H16: =G16/F16 -> 0.55459435
A17: 11130020-203-19-05-000-002-000 | D17: DOTACIÓN DE MATERIALES DE CONSTRUCCIÓN PARA VIVIENDAS | E17: 119586497 | F17: 115575620 | G17: 115550620 | H17: =G17/F17 -> 0.99978369
A18: 11130020-203-19-05-000-005-000 | D18: DOTACIÓN DE ALIMENTOS | E18: 500000 | F18: 147782 | G18: 112217.6 | H18: =G18/F18 -> 0.75934552
A19: 11130020-202-21-01-000-001-000 | B19: TRANSFERENCIAS MONETARIAS CONDICIONADAS EN SALUD Y EDUCACIÓN | C19: PREVENCIÓN DE LA DESNUTRICIÓN CRÓNICA | D19: TRANSFERENCIAS MONETARIAS CON ÉNFASIS EN SALUD | E19: 237881360 | F19: 303761747 | G19: 2.1553333e+08 | H19: =G19/F19 -> 0.7095473
A20: 11130020-202-21-01-000-002-000 | D20: TRANSFERENCIAS MONETARIAS PARA NIÑAS Y ADOLESCENTES VIOLENTADAS Y JUDICIALIZADAS | E20: 1500000 | F20: 2554500 | G20: 2043000 | H20: =G20/F20 -> 0.79976512
A21: 11130020-202-21-01-000-004-000 | D21: TRANSFERENCIAS MONETARIAS CON ÉNFASIS EN NUTRICIÓN | E21: 65000000 | F21: 25000000 | G21: 18249500 | H21: =G21/F21 -> 0.72998
A22: 11130020-202-21-02-000-001-000 | C22: COBERTURA DE EDUCACIÓN ESCOLAR PRIMARIA | D22: TRANSFERENCIAS MONETARIAS CON ÉNFASIS EN EDUCACIÓN | E22: 482112400 | F22: 437093876 | G22: 2.9597703e+08 | H22: =G22/F22 -> 0.67714751
A23: TOTAL | E23: =SUM(E10:E22) -> 1340864075 | F23: =SUM(F10:F22) -> 1316127005 | G23: =SUM(G10:G22) -> 9.3379797e+08 | H23: =G23/F23 -> 0.70950445
A24: Fuente: R00815829.rpt

Sheet SCEP
A2: EJECUCIÓN FINANCIERA DEL POASAN 2025
A3: Periodo del 01 de enero al 31 de octubre de 2025
A6: ENTIDAD: SECRETARÍA DE COORDINACIÓN EJECUTIVA DE LA PRESIDENCIA (SCEP)
A8: CÓDIGO PRESUPUESTARIO | B8: PROGRAMA | C8: SUBPROGRAMA | D8: ACTIVIDAD PRESUPUESTARIA | E8: PRESUPUESTO | G8: EJECUCIÓN FINANCIERA
E9: INICIAL | F9: VIGENTE | G9: EJECUCIÓN ACUMULADA | H9: % DE EJECUCIÓN
A10: 11130016-204-63-01-000-001-000 | B10: COORDINACIÓN DE POLÍTICAS Y PROYECTOS DE DESARROLLO | C10: FORTALECIMIENTO DE CAPACIDADES TÉCNICAS DEL SISTEMA DE CONSEJOS DE DESARROLLO | D10: DIRECCIÓN Y COORDINACIÓN | E10: 1868130 | F10: 1820300 | G10: 1532267.3 | H10: =G10/F10 -> 0.84176635
A11: 11130016-204-63-01-000-003-000 | D11: APOYO TÉCNICO A LOS CONSEJOS DE DESARROLLO | E11: 1655850 | F11: 1557000 | G11: 1243000 | H11: =G11/F11 -> 0.79833014
A12: 11130016-204-63-01-000-004-000 | D12: FORMACIÓN AL SISTEMA DE CONSEJOS DE DESARROLLO | E12: 806330 | F12: 798000 | G12: 637709.69 | H12: =G12/F12 -> 0.79913495
A13: TOTAL | E13: =SUM(E10:E12) -> 4330310 | F13: =SUM(F10:F12) -> 4175300 | G13: =SUM(G10:G12) -> 3412977 | H13: =+G13/F13 -> 0.81742079
A14: Fuente: R00815829.rpt

Sheet SBS
A2: EJECUCIÓN FINANCIERA DEL POASAN 2025
A3: Periodo del 01 de enero al 31 de octubre de 2025
A6: ENTIDAD: SECRETARÍA DE BIENESTAR SOCIAL DE LA PRESIDENCIA DE LA REPÚBLICA (SBS)
A8: CÓDIGO PRESUPUESTARIO | B8: PROGRAMA | C8: SUBPROGRAMA | D8: ACTIVIDAD PRESUPUESTARIA | E8: PRESUPUESTO | G8: EJECUCIÓN FINANCIERA
E9: INICIAL | F9: VIGENTE | G9: EJECUCIÓN ACUMULADA | H9: % DE EJECUCIÓN
A10: 11130016-212-64-01-000-003-000 | B10: ACTIVIDADES DE BIENESTAR SOCIAL | C10: PRESERVACIÓN FAMILIAR, FORTALECIMIENTO Y APOYO COMUNITARIO | D10: ATENCIÓN INTEGRAL A LA NIÑEZ | E10: 27073917 | F10: 24373592 | G10: 11449558 | H10: =G10/F10 -> 0.4697526
A11: 11130016-212-64-01-000-004-000 | D11: EDUCACIÓN ESPECIAL Y REHABILITACIÓN A LA NIÑEZ CON DISCAPACIDAD | E11: 4136281 | F11: 4109445 | G11: 1817528.2 | H11: =G11/F11 -> 0.44228069
A12: 11130016-212-64-01-000-005-000 | D12: CAPACITACIÓN LABORAL Y OCUPACIONAL A ADOLESCENTES CON DISCAPACIDAD | E12: 1354571 | F12: 1418180 | G12: 667629.01 | H12: =G12/F12 -> 0.47076465
A13: 11130016-212-64-01-000-006-000 | D13: SUBSIDIO ECONÓMICO A NIÑEZ Y ADOLESCENCIA CON NECECIDADES ESPECIALES Y DISCAPACIDAD | E13: 22430450 | F13: 22549225 | G13: 15674785 | H13: =G13/F13 -> 0.69513629
A14: 11130016-212-64-03-000-004-000 | C14: PROTECCIÓN Y ACOGIMIENTO A LA NIÑEZ Y ADOLESCENCIA | D14: PROTECCIÓN Y ACOGIMIENTO RESIDENCIAL PARA NIÑEZ Y ADOLESCENCIA CON DISCAPACIDAD | E14: 4637943 | F14: 3343723 | G14: 2993102.5 | H14: =G14/F14 -> 0.89514068
A15: 11130016-212-64-03-000-011-000 | D15: PROTECCIÓN Y ACOGIMIENTO RESIDENCIAL A NIÑEZ Y ADOLESCENCIA | E15: 58279569 | F15: 51642612 | G15: 36606288 | H15: =G15/F15 -> 0.70883881
A16: TOTAL | E16: =SUM(E10:E15) -> 117912731 | F16: =SUM(F10:F15) -> 107436777 | G16: =SUM(G10:G15) -> 69208890 | H16: =+G16/F16 -> 0.64418249
A17: Fuente: R00815829.rpt

Sheet SOSEP
A2: EJECUCIÓN FINANCIERA DEL POASAN 2025
A3: Periodo del 01 de enero al 31 de octubre de 2025
A6: ENTIDAD: SECRETARÍA DE OBRAS SOCIALES DE LA ESPOSA DEL PRESIDENTE (SOSEP)
